BEGIN:VCALENDAR
VERSION:2.0
PRODID:-//Tukios.com/
BEGIN:VEVENT
UID:ee164eb6-673c-45f1-9482-59a5857418c2@www.ligonbobo.com
DTSTAMP:20260420T205841Z
DTSTART:20260424T150000Z
DTEND:20260424T160000Z
SUMMARY:Visitation
DESCRIPTION:
URL:https://www.ligonbobo.com/obituaries/joan-brewster
LOCATION:Ligon & Bobo Funeral Home 241 West Main Street  Lebanon TN 37087
GEO:36.208681;-86.2949195
END:VEVENT
END:VCALENDAR