BEGIN:VCALENDAR
VERSION:2.0
PRODID:-//Tukios.com/
BEGIN:VEVENT
UID:3142cd88-832b-43f0-940c-11b0a60f2189@www.ligonbobo.com
DTSTAMP:20260420T210125Z
DTSTART:20260423T210000Z
DTEND:20260424T000000Z
SUMMARY:Visitation
DESCRIPTION:
URL:https://www.ligonbobo.com/obituaries/joan-brewster
LOCATION:Ligon & Bobo Funeral Home 241 West Main Street  Lebanon TN 37087
GEO:36.2086807;-86.2949433
END:VEVENT
END:VCALENDAR