BEGIN:VCALENDAR
VERSION:2.0
PRODID:-//Tukios.com/
BEGIN:VEVENT
UID:4679ae94-3bdc-44a0-9b4e-27c2c5ce14ff@www.ligonbobo.com
DTSTAMP:20260420T210053Z
DTSTART:20260424T160000Z
DTEND:20260424T170000Z
SUMMARY:Funeral Service
DESCRIPTION:
URL:https://www.ligonbobo.com/obituaries/joan-brewster
LOCATION:Ligon & Bobo Funeral Home 241 West Main Street  Lebanon TN 37087
GEO:36.208681;-86.2949195
END:VEVENT
END:VCALENDAR